BEGIN:VCALENDAR
VERSION:2.0
PRODID:-//Brothers Keepers International - ECPv6.15.20//NONSGML v1.0//EN
CALSCALE:GREGORIAN
METHOD:PUBLISH
X-WR-CALNAME:Brothers Keepers International
X-ORIGINAL-URL:https://brotherskeeperint.com
X-WR-CALDESC:Events for Brothers Keepers International
REFRESH-INTERVAL;VALUE=DURATION:PT1H
X-Robots-Tag:noindex
X-PUBLISHED-TTL:PT1H
BEGIN:VTIMEZONE
TZID:UTC
BEGIN:STANDARD
TZOFFSETFROM:+0000
TZOFFSETTO:+0000
TZNAME:UTC
DTSTART:20250101T000000
END:STANDARD
END:VTIMEZONE
BEGIN:VEVENT
DTSTART;TZID=UTC:20260202T080000
DTEND;TZID=UTC:20260202T170000
DTSTAMP:20260420T214654
CREATED:20260202T050006Z
LAST-MODIFIED:20260202T054430Z
UID:68532-1770019200-1770051600@brotherskeeperint.com
SUMMARY:Jadwal Pertandingan Bola Resmi Hari Ini yang Tak Boleh Dilewatkan
DESCRIPTION:Hari ini\, para penggemar sepak bola resmi akan dimanjakan dengan serangkaian pertandingan resmi yang sangat menarik dan tidak boleh dilewatkan. Setiap laga menjanjikan aksi yang mendebarkan\, di mana tim-tim terbaik akan saling beradu strategi dan keterampilan di lapangan. Dari liga domestik hingga kompetisi internasional\, setiap pertandingan memiliki cerita dan rivalitas yang unik\, menjadikan hari ini sebagai momen yang sangat dinanti-nantikan oleh para pencinta olahraga ini. \nDalam setiap pertandingan\, kita akan menyaksikan para pemain bola resmi bintang yang telah berjuang keras untuk mencapai puncak performa mereka. Dengan skill yang memukau dan semangat juang yang tinggi\, mereka akan berusaha memberikan yang terbaik untuk tim dan para pendukungnya. Atmosfer di stadion akan dipenuhi dengan sorakan dan dukungan dari para penggemar\, menciptakan pengalaman yang tak terlupakan bagi semua yang hadir. Setiap gol yang tercipta akan menjadi momen berharga\, dan setiap penyelamatan kiper akan menjadi sorotan yang layak untuk dikenang. \nJadi\, siapkan diri Anda untuk menyaksikan pertandingan-pertandingan bola resmi yang akan berlangsung hari ini. Pastikan Anda tidak melewatkan kesempatan untuk menikmati setiap detik dari laga-laga yang penuh emosi dan drama ini. Dengan berbagai tim yang bersaing untuk meraih kemenangan\, hari ini akan menjadi salah satu hari yang paling berkesan dalam kalender sepak bola. Mari kita saksikan bersama bagaimana kisah-kisah baru akan terukir di lapangan hijau. \nbola resmi\nbola resmi\nbola resmi
URL:https://brotherskeeperint.com/event/jadwal-pertandingan-bola-resmi-hari-ini-yang-tak-boleh-dilewatkan/
CATEGORIES:bola resmi
END:VEVENT
BEGIN:VEVENT
DTSTART;TZID=UTC:20260202T080000
DTEND;TZID=UTC:20260202T170000
DTSTAMP:20260420T214654
CREATED:20260202T045914Z
LAST-MODIFIED:20260202T054425Z
UID:68531-1770019200-1770051600@brotherskeeperint.com
SUMMARY:Rasakan Sensasi Pertandingan Bola Resmi Hari Ini!
DESCRIPTION:Rasakan keanggunan dan semangat yang menggebu dalam pertandingan bola resmi yang berlangsung hari ini. Setiap detik di lapangan dipenuhi dengan ketegangan dan antisipasi\, saat para pemain berjuang untuk meraih kemenangan demi tim mereka. Suara sorakan penonton yang menggema menciptakan atmosfer yang tak tertandingi\, menjadikan setiap momen dalam pertandingan ini begitu berharga. Dengan skill yang memukau dan strategi yang cermat\, para atlet menunjukkan dedikasi dan komitmen mereka\, menjadikan setiap pertandingan sebagai sebuah karya seni yang hidup. \nDalam pertandingan ini\, Anda akan menyaksikan pertarungan antara tim-tim bola resmi terbaik yang telah mempersiapkan diri dengan matang. Setiap pemain\, dengan keahlian dan bakatnya\, berusaha untuk menciptakan momen-momen magis yang akan dikenang sepanjang masa. Dari tendangan bebas yang menakjubkan hingga dribble yang memukau bola resmi \, setiap aksi di lapangan adalah sebuah perayaan dari semangat kompetisi yang tinggi. Penonton akan terhanyut dalam euforia\, merasakan setiap emosi yang melanda saat tim favorit mereka berjuang untuk meraih kemenangan. \nJangan lewatkan kesempatan untuk menjadi bagian dari pengalaman luar biasa ini. Hadiri pertandingan bola resmi hari ini dan nikmati suasana yang penuh gairah serta keindahan permainan. Setiap detik yang berlalu akan membawa Anda lebih dekat kepada momen-momen bersejarah yang akan dikenang oleh para penggemar. Bergabunglah dengan ribuan penonton lainnya dan saksikan bagaimana para pemain berjuang dengan sepenuh hati\, menciptakan kenangan yang tak terlupakan dalam dunia sepak bola. \nbola resmi\nbola resmi\nbola resmi
URL:https://brotherskeeperint.com/event/rasakan-sensasi-pertandingan-bola-resmi-hari-ini/
CATEGORIES:bola resmi
END:VEVENT
BEGIN:VEVENT
DTSTART;TZID=UTC:20260202T080000
DTEND;TZID=UTC:20260202T170000
DTSTAMP:20260420T214654
CREATED:20260202T045745Z
LAST-MODIFIED:20260202T054417Z
UID:68530-1770019200-1770051600@brotherskeeperint.com
SUMMARY:Apa Saja Pertandingan Bola Resmi Hari Ini?
DESCRIPTION:Hari ini\, dunia sepak bola resmi akan menyajikan serangkaian pertandingan resmi yang sangat dinantikan oleh para penggemar. Dari liga domestik hingga kompetisi internasional\, setiap laga menjanjikan ketegangan dan drama yang tak terlupakan. Para tim akan berjuang untuk meraih kemenangan\, tidak hanya untuk mendapatkan poin\, tetapi juga untuk membuktikan diri sebagai yang terbaik di antara yang terbaik. Dengan pemain-pemain bintang yang siap menunjukkan kemampuan mereka\, setiap pertandingan menjadi momen yang layak untuk disaksikan. \nDalam konteks liga domestik\, beberapa pertandingan kunci akan berlangsung\, di mana tim-tim papan atas akan saling berhadapan. Pertarungan bola resmi ini tidak hanya akan menentukan posisi di klasemen\, tetapi juga akan menjadi ajang unjuk gigi bagi para pelatih dan pemain. Atmosfer di stadion dipastikan akan memanas\, dengan dukungan penuh dari para suporter yang setia. Setiap gol yang tercipta akan menjadi sorotan\, dan setiap keputusan wasit akan menjadi bahan perdebatan di kalangan penggemar. \nSelain itu\, kompetisi internasional juga akan menampilkan laga-laga seru yang tidak kalah menarik. Tim-tim bola resmi dari berbagai negara akan berusaha untuk menunjukkan kualitas permainan mereka di pentas global. Pertandingan ini bukan hanya sekadar ajang olahraga\, tetapi juga menjadi simbol persahabatan antarbangsa. Dengan segala persiapan yang telah dilakukan\, para pemain akan berusaha memberikan yang terbaik demi mengharumkan nama negara mereka. Hari ini\, para pencinta sepak bola di seluruh dunia akan disuguhkan dengan aksi-aksi menawan yang akan menggetarkan hati dan jiwa. \nbola resmi\nbola resmi\nbola resmi
URL:https://brotherskeeperint.com/event/apa-saja-pertandingan-bola-resmi-hari-ini/
CATEGORIES:bola resmi
END:VEVENT
BEGIN:VEVENT
DTSTART;TZID=UTC:20260202T080000
DTEND;TZID=UTC:20260202T170000
DTSTAMP:20260420T214654
CREATED:20260202T045615Z
LAST-MODIFIED:20260202T054407Z
UID:68529-1770019200-1770051600@brotherskeeperint.com
SUMMARY:5 Pertandingan Bola Resmi Hari Ini yang Wajib Disaksikan
DESCRIPTION:Hari ini\, dunia sepak bola resmi akan menyuguhkan lima pertandingan resmi yang sangat menarik dan tidak boleh dilewatkan oleh para penggemar. Setiap laga menjanjikan aksi yang mendebarkan\, di mana tim-tim terbaik akan saling beradu strategi dan keterampilan di lapangan. Dari liga domestik hingga kompetisi internasional\, setiap pertandingan memiliki cerita dan rivalitas yang unik\, menjadikan hari ini sebagai momen yang penuh antisipasi bagi para pencinta olahraga ini. \nPertandingan pertama yang patut dicermati adalah duel antara dua raksasa yang telah lama bersaing di liga bola resmi utama. Kedua tim tidak hanya memiliki sejarah yang kaya\, tetapi juga skuad yang dipenuhi dengan pemain bintang yang mampu mengubah jalannya pertandingan dalam sekejap. Atmosfer di stadion dipastikan akan memanas\, dengan para pendukung yang siap memberikan dukungan penuh kepada tim kesayangan mereka. Setiap gol yang tercipta akan menjadi sorotan\, dan setiap momen krusial akan diingat dalam ingatan para penggemar. \nSelanjutnya\, laga-laga lainnya juga menawarkan daya tarik tersendiri\, dengan tim-tim bola resmi yang berambisi untuk meraih kemenangan demi memperbaiki posisi mereka di klasemen. Pertandingan ini bukan hanya sekadar ajang untuk meraih tiga poin\, tetapi juga merupakan kesempatan bagi para pemain untuk menunjukkan kemampuan terbaik mereka di hadapan publik. Dengan berbagai cerita yang mengelilingi setiap tim\, hari ini akan menjadi saksi dari drama dan keindahan sepak bola yang tak tertandingi. Pastikan untuk menyaksikan setiap detik dari pertandingan yang akan berlangsung\, karena setiap momen berpotensi menjadi bagian dari sejarah olahraga ini. \nbola resmi\nbola resmi\nbola resmi
URL:https://brotherskeeperint.com/event/5-pertandingan-bola-resmi-hari-ini-yang-wajib-disaksikan/
CATEGORIES:bola resmi
END:VEVENT
BEGIN:VEVENT
DTSTART;TZID=UTC:20260202T080000
DTEND;TZID=UTC:20260202T170000
DTSTAMP:20260420T214654
CREATED:20260202T045500Z
LAST-MODIFIED:20260202T054400Z
UID:68528-1770019200-1770051600@brotherskeeperint.com
SUMMARY:Cara Menonton Pertandingan Bola Resmi Hari Ini
DESCRIPTION:Menonton pertandingan bola resmi hari ini adalah pengalaman yang tak terlupakan\, terutama bagi para penggemar yang ingin merasakan atmosfer pertandingan secara langsung. Untuk memulai\, penting untuk mengetahui jadwal pertandingan yang akan berlangsung. Anda dapat mengakses informasi ini melalui situs web resmi liga atau aplikasi olahraga yang menyediakan pembaruan terkini. Pastikan untuk mencatat waktu dan lokasi pertandingan agar tidak melewatkan momen berharga saat tim kesayangan Anda bertanding di lapangan. \nSetelah mengetahui jadwal\, langkah selanjutnya adalah mempersiapkan diri untuk menonton bola resmi . Jika Anda berencana untuk menyaksikan pertandingan di stadion\, pastikan untuk membeli tiket dengan cukup waktu sebelumnya\, karena tiket untuk pertandingan populer sering kali terjual habis. Selain itu\, pertimbangkan untuk datang lebih awal agar Anda dapat menikmati suasana sebelum pertandingan dimulai\, seperti berinteraksi dengan sesama penggemar\, mencicipi makanan khas stadion\, atau membeli merchandise tim. Jika Anda memilih untuk menonton di rumah\, siapkan suasana yang nyaman dengan camilan favorit dan layar besar untuk pengalaman menonton yang lebih mendalam. \nTerakhir\, jangan lupa untuk mendalami informasi tentang tim bola resmi dan pemain yang akan bertanding. Memahami statistik\, performa terkini\, dan strategi yang digunakan oleh masing-masing tim akan menambah kedalaman pengalaman menonton Anda. Anda juga bisa mengikuti analisis pra-pertandingan yang sering disediakan oleh berbagai media olahraga. Dengan semua persiapan ini\, Anda akan siap untuk menikmati pertandingan bola resmi hari ini dengan penuh semangat dan pengetahuan\, menjadikannya momen yang benar-benar berkesan. \nbola resmi\nbola resmi\nbola resmi
URL:https://brotherskeeperint.com/event/cara-menonton-pertandingan-bola-resmi-hari-ini/
CATEGORIES:bola resmi
END:VEVENT
END:VCALENDAR